BEGIN:VCALENDAR
VERSION:2.0
CALSCALE:GREGORIAN
PRODID:adamgibbons/ics
METHOD:PUBLISH
X-PUBLISHED-TTL:PT1H
BEGIN:VEVENT
UID:568@chicagol.askapunk.net
SUMMARY:BETON ARME\, Fuerza Bruta\, Home Invasion
DTSTAMP:20260421T043752Z
DTSTART:20260516T000000Z
DTEND:20260516T040000Z
URL:https://chicago.askapunk.net/event/beton-arme-fuerza-bruta-home-invasio
	n
LOCATION:Casa Cafe - 2025 s western ave
STATUS:CONFIRMED
CATEGORIES:Beton Arme,Fuerza Bruta,Home Invasion,casa cafe
END:VEVENT
END:VCALENDAR
